BEGIN:VCALENDAR
VERSION:2.0
PRODID:-//81.169.145.152//NONSGML kigkonsult.se iCalcreator 2.20//
CALSCALE:GREGORIAN
METHOD:PUBLISH
X-WR-TIMEZONE:UTC
BEGIN:VEVENT
UID:event98@Gemeindefeuerwehr Großrückerswalde
DTSTAMP:20260423T104453Z
CATEGORIES:OF Großrückerswalde
DESCRIPTION:Großrückerswalde Vorgehen bei Verkehrsunfällen\nKategorie: OF G
 roßrückerswalde\nICS-Link: http://jf-ff-grossrueckerswalde.de/index.php?op
 tion=com_jem&view=event&id=98:grossrueckerswalde-vorgehen-bei-verkehrsunfa
 ellen\n
DTSTART:20170808T193000Z
DTEND:20170808T193000Z
LOCATION:Gerätehaus Großrückerswalde\,Marienberger Str. 72\,09518 Grossrück
 erswalde
SUMMARY:Großrückerswalde Vorgehen bei Verkehrsunfällen
URL:http://jf-ff-grossrueckerswalde.de/index.php?option=com_jem&view=event&
 id=98:grossrueckerswalde-vorgehen-bei-verkehrsunfaellen
END:VEVENT
END:VCALENDAR
