BEGIN:VCALENDAR
VERSION:2.0
PRODID:-//81.169.145.152//NONSGML kigkonsult.se iCalcreator 2.20//
CALSCALE:GREGORIAN
METHOD:PUBLISH
X-WR-TIMEZONE:UTC
BEGIN:VEVENT
UID:event96@Gemeindefeuerwehr Großrückerswalde
DTSTAMP:20260421T150526Z
CATEGORIES:OF Streckewalde
DESCRIPTION:Streckewalde Technische Hilfe Greifzug\nKategorie: OF Streckewa
 lde\nICS-Link: http://jf-ff-grossrueckerswalde.de/index.php?option=com_jem
 &view=event&id=96:streckewalde-technische-hilfe-greifzug\n
DTSTART:20171103T190000Z
DTEND:20171103T190000Z
LOCATION:Gerätehaus Streckewalde\,Bergstraße 5a\,09518 Streckewalde
SUMMARY:Streckewalde Technische Hilfe Greifzug
URL:http://jf-ff-grossrueckerswalde.de/index.php?option=com_jem&view=event&
 id=96:streckewalde-technische-hilfe-greifzug
END:VEVENT
END:VCALENDAR
