BEGIN:VCALENDAR
VERSION:2.0
PRODID:-//81.169.145.152//NONSGML kigkonsult.se iCalcreator 2.20//
CALSCALE:GREGORIAN
METHOD:PUBLISH
X-WR-TIMEZONE:UTC
BEGIN:VEVENT
UID:event93@Gemeindefeuerwehr Großrückerswalde
DTSTAMP:20260423T125701Z
CATEGORIES:OF Streckewalde
DESCRIPTION:Streckewalde Vorgehen bei Küchen- & Fettbränden\nKategorie: OF 
 Streckewalde\nICS-Link: http://jf-ff-grossrueckerswalde.de/index.php?optio
 n=com_jem&view=event&id=93:streckewalde-vorgehen-bei-kuechen-fettbraenden
 \n
DTSTART:20171027T190000Z
DTEND:20171027T190000Z
LOCATION:Gerätehaus Streckewalde\,Bergstraße 5a\,09518 Streckewalde
SUMMARY:Streckewalde Vorgehen bei Küchen- & Fettbränden
URL:http://jf-ff-grossrueckerswalde.de/index.php?option=com_jem&view=event&
 id=93:streckewalde-vorgehen-bei-kuechen-fettbraenden
END:VEVENT
END:VCALENDAR
