BEGIN:VCALENDAR
VERSION:2.0
PRODID:-//81.169.145.152//NONSGML kigkonsult.se iCalcreator 2.20//
CALSCALE:GREGORIAN
METHOD:PUBLISH
X-WR-TIMEZONE:UTC
BEGIN:VEVENT
UID:event91@Gemeindefeuerwehr Großrückerswalde
DTSTAMP:20260421T164952Z
CATEGORIES:OF Streckewalde
DESCRIPTION:Streckewalde Wasserentnahme aus offenen Gewässer\nKategorie: OF
  Streckewalde\nICS-Link: http://jf-ff-grossrueckerswalde.de/index.php?opti
 on=com_jem&view=event&id=91:streckewalde-wasserentnahme-aus-offenen-gewaes
 ser\n
DTSTART:20170901T130000Z
DTEND:20170901T130000Z
LOCATION:Gerätehaus Streckewalde\,Bergstraße 5a\,09518 Streckewalde
SUMMARY:Streckewalde Wasserentnahme aus offenen Gewässer
URL:http://jf-ff-grossrueckerswalde.de/index.php?option=com_jem&view=event&
 id=91:streckewalde-wasserentnahme-aus-offenen-gewaesser
END:VEVENT
END:VCALENDAR
