BEGIN:VCALENDAR
VERSION:2.0
PRODID:-//81.169.145.152//NONSGML kigkonsult.se iCalcreator 2.20//
CALSCALE:GREGORIAN
METHOD:PUBLISH
X-WR-TIMEZONE:UTC
BEGIN:VEVENT
UID:event89@Gemeindefeuerwehr Großrückerswalde
DTSTAMP:20260421T150837Z
CATEGORIES:Ortsfeuerwehr Mauersberg
DESCRIPTION:Jahreshauptversammlung FF Mauersberg\nKategorie: Ortsfeuerwehr 
 Mauersberg\nICS-Link: http://jf-ff-grossrueckerswalde.de/index.php?option=
 com_jem&view=event&id=89:jahreshauptversammlung-ff-mauersberg\n
DTSTART;VALUE=DATE:20180310
DTEND;VALUE=DATE:20180311
LOCATION:Gerätehaus Mauersberg\,Hauptstraße 4\,09518 Mauersberg
SUMMARY:Jahreshauptversammlung FF Mauersberg
URL:http://jf-ff-grossrueckerswalde.de/index.php?option=com_jem&view=event&
 id=89:jahreshauptversammlung-ff-mauersberg
END:VEVENT
END:VCALENDAR
