BEGIN:VCALENDAR
VERSION:2.0
PRODID:-//81.169.145.152//NONSGML kigkonsult.se iCalcreator 2.20//
CALSCALE:GREGORIAN
METHOD:PUBLISH
X-WR-TIMEZONE:UTC
BEGIN:VEVENT
UID:event88@Gemeindefeuerwehr Großrückerswalde
DTSTAMP:20260421T151419Z
CATEGORIES:OF Mauersberg
DESCRIPTION:Mauersberg Einsatzübung\nKategorie: OF Mauersberg\nICS-Link: ht
 tp://jf-ff-grossrueckerswalde.de/index.php?option=com_jem&view=event&id=88
 :mauersberg-einsatzuebung\n
DTSTART:20170815T193000Z
DTEND:20170815T193000Z
LOCATION:Gerätehaus Mauersberg\,Hauptstraße 4\,09518 Mauersberg
SUMMARY:Mauersberg Einsatzübung
URL:http://jf-ff-grossrueckerswalde.de/index.php?option=com_jem&view=event&
 id=88:mauersberg-einsatzuebung
END:VEVENT
END:VCALENDAR
