BEGIN:VCALENDAR
VERSION:2.0
PRODID:-//81.169.145.152//NONSGML kigkonsult.se iCalcreator 2.20//
CALSCALE:GREGORIAN
METHOD:PUBLISH
X-WR-TIMEZONE:UTC
BEGIN:VEVENT
UID:event87@Gemeindefeuerwehr Großrückerswalde
DTSTAMP:20260421T182615Z
CATEGORIES:OF Mauersberg
DESCRIPTION:Mauersberg Ausbildung TS 8/8 und Beleuchtung\nKategorie: OF Mau
 ersberg\nICS-Link: http://jf-ff-grossrueckerswalde.de/index.php?option=com
 _jem&view=event&id=87:mauersberg-ausbildung-ts-8-8-und-beleuchtung\n
DTSTART:20170801T193000Z
DTEND:20170801T193000Z
LOCATION:Gerätehaus Mauersberg\,Hauptstraße 4\,09518 Mauersberg
SUMMARY:Mauersberg Ausbildung TS 8/8 und Beleuchtung
URL:http://jf-ff-grossrueckerswalde.de/index.php?option=com_jem&view=event&
 id=87:mauersberg-ausbildung-ts-8-8-und-beleuchtung
END:VEVENT
END:VCALENDAR
