BEGIN:VCALENDAR
VERSION:2.0
PRODID:-//81.169.145.152//NONSGML kigkonsult.se iCalcreator 2.20//
CALSCALE:GREGORIAN
METHOD:PUBLISH
X-WR-TIMEZONE:UTC
BEGIN:VEVENT
UID:event86@Gemeindefeuerwehr Großrückerswalde
DTSTAMP:20260421T182544Z
CATEGORIES:OF Mauersberg
DESCRIPTION:Mauersberg Umgang Essenkehrgerät\nKategorie: OF Mauersberg\nICS
 -Link: http://jf-ff-grossrueckerswalde.de/index.php?option=com_jem&view=ev
 ent&id=86:mauersberg-umgang-essenkehrgeraet\n
DTSTART:20170718T193000Z
DTEND:20170718T193000Z
LOCATION:Gerätehaus Mauersberg\,Hauptstraße 4\,09518 Mauersberg
SUMMARY:Mauersberg Umgang Essenkehrgerät
URL:http://jf-ff-grossrueckerswalde.de/index.php?option=com_jem&view=event&
 id=86:mauersberg-umgang-essenkehrgeraet
END:VEVENT
END:VCALENDAR
