BEGIN:VCALENDAR
VERSION:2.0
PRODID:-//81.169.145.152//NONSGML kigkonsult.se iCalcreator 2.20//
CALSCALE:GREGORIAN
METHOD:PUBLISH
X-WR-TIMEZONE:UTC
BEGIN:VEVENT
UID:event85@Gemeindefeuerwehr Großrückerswalde
DTSTAMP:20260421T150801Z
CATEGORIES:OF Mauersberg
DESCRIPTION:Mauersberg Technik Stationsbetrieb\nKategorie: OF Mauersberg\nI
 CS-Link: http://jf-ff-grossrueckerswalde.de/index.php?option=com_jem&view=
 event&id=85:mauersberg-technik-stationsbetrieb\n
DTSTART:20170704T193000Z
DTEND:20170704T193000Z
LOCATION:Gerätehaus Mauersberg\,Hauptstraße 4\,09518 Mauersberg
SUMMARY:Mauersberg Technik Stationsbetrieb
URL:http://jf-ff-grossrueckerswalde.de/index.php?option=com_jem&view=event&
 id=85:mauersberg-technik-stationsbetrieb
END:VEVENT
END:VCALENDAR
