BEGIN:VCALENDAR
VERSION:2.0
PRODID:-//81.169.145.152//NONSGML kigkonsult.se iCalcreator 2.20//
CALSCALE:GREGORIAN
METHOD:PUBLISH
X-WR-TIMEZONE:UTC
BEGIN:VEVENT
UID:event8@Gemeindefeuerwehr Großrückerswalde
DTSTAMP:20260423T105704Z
CATEGORIES:Ortsfeuerwehr Mauersberg
DESCRIPTION:Speedhill am Bodenberg\nKategorie: Ortsfeuerwehr Mauersberg\nIC
 S-Link: http://jf-ff-grossrueckerswalde.de/index.php?option=com_jem&view=e
 vent&id=8:speedhill-am-bodenberg\n
DTSTART:20150828T183000Z
DTEND:20150830T183000Z
LOCATION:Mauersberg\,09518
SUMMARY:Speedhill am Bodenberg
URL:http://jf-ff-grossrueckerswalde.de/index.php?option=com_jem&view=event&
 id=8:speedhill-am-bodenberg
END:VEVENT
END:VCALENDAR
