BEGIN:VCALENDAR
VERSION:2.0
PRODID:-//81.169.145.152//NONSGML kigkonsult.se iCalcreator 2.20//
CALSCALE:GREGORIAN
METHOD:PUBLISH
X-WR-TIMEZONE:UTC
BEGIN:VEVENT
UID:event77@Gemeindefeuerwehr Großrückerswalde
DTSTAMP:20260421T180404Z
CATEGORIES:OF Mauersberg
DESCRIPTION:Mauersberg Rechten und Pflichten\nKategorie: OF Mauersberg\nICS
 -Link: http://jf-ff-grossrueckerswalde.de/index.php?option=com_jem&view=ev
 ent&id=77:mauersberg-rechten-und-pflichten\n
DTSTART:20170228T193000Z
DTEND:20170228T193000Z
LOCATION:Gerätehaus Mauersberg\,Hauptstraße 4\,09518 Mauersberg
SUMMARY:Mauersberg Rechten und Pflichten
URL:http://jf-ff-grossrueckerswalde.de/index.php?option=com_jem&view=event&
 id=77:mauersberg-rechten-und-pflichten
END:VEVENT
END:VCALENDAR
