BEGIN:VCALENDAR
VERSION:2.0
PRODID:-//81.169.145.152//NONSGML kigkonsult.se iCalcreator 2.20//
CALSCALE:GREGORIAN
METHOD:PUBLISH
X-WR-TIMEZONE:UTC
BEGIN:VEVENT
UID:event72@Gemeindefeuerwehr Großrückerswalde
DTSTAMP:20260423T120839Z
CATEGORIES:OF Streckewalde
DESCRIPTION:Streckewalde Vorgehen bei Verkehrsunfällen\nKategorie: OF Strec
 kewalde\nICS-Link: http://jf-ff-grossrueckerswalde.de/index.php?option=com
 _jem&view=event&id=72:streckewalde-vorgehen-bei-verkehrsunfaellen\n
DTSTART:20170512T190000Z
DTEND:20170512T190000Z
LOCATION:Gerätehaus Streckewalde\,Bergstraße 5a\,09518 Streckewalde
SUMMARY:Streckewalde Vorgehen bei Verkehrsunfällen
URL:http://jf-ff-grossrueckerswalde.de/index.php?option=com_jem&view=event&
 id=72:streckewalde-vorgehen-bei-verkehrsunfaellen
END:VEVENT
END:VCALENDAR
