BEGIN:VCALENDAR
VERSION:2.0
PRODID:-//81.169.145.152//NONSGML kigkonsult.se iCalcreator 2.20//
CALSCALE:GREGORIAN
METHOD:PUBLISH
X-WR-TIMEZONE:UTC
BEGIN:VEVENT
UID:event70@Gemeindefeuerwehr Großrückerswalde
DTSTAMP:20260421T164547Z
CATEGORIES:OF Streckewalde
DESCRIPTION:Streckewalde Technische Hilfeleistung Stationsbetrieb\nKategori
 e: OF Streckewalde\nICS-Link: http://jf-ff-grossrueckerswalde.de/index.php
 ?option=com_jem&view=event&id=70:streckewalde-technische-hilfeleistung-sta
 tionsbetrieb\n
DTSTART:20170413T190000Z
DTEND:20170413T190000Z
LOCATION:Gerätehaus Streckewalde\,Bergstraße 5a\,09518 Streckewalde
SUMMARY:Streckewalde Technische Hilfeleistung Stationsbetrieb
URL:http://jf-ff-grossrueckerswalde.de/index.php?option=com_jem&view=event&
 id=70:streckewalde-technische-hilfeleistung-stationsbetrieb
END:VEVENT
END:VCALENDAR
