BEGIN:VCALENDAR
VERSION:2.0
PRODID:-//81.169.145.152//NONSGML kigkonsult.se iCalcreator 2.20//
CALSCALE:GREGORIAN
METHOD:PUBLISH
X-WR-TIMEZONE:UTC
BEGIN:VEVENT
UID:event7@Gemeindefeuerwehr Großrückerswalde
DTSTAMP:20260421T164207Z
CATEGORIES:Gemeindefeuerwehr Großrückerswalde
DESCRIPTION:Blaulichttage\nKategorie: Gemeindefeuerwehr Großrückerswalde\nI
 CS-Link: http://jf-ff-grossrueckerswalde.de/index.php?option=com_jem&view=
 event&id=7:blaulichttage\n
DTSTART:20171006T160000Z
DTEND:20171008T110000Z
LOCATION:Marienberg\,09518
SUMMARY:Blaulichttage
URL:http://jf-ff-grossrueckerswalde.de/index.php?option=com_jem&view=event&
 id=7:blaulichttage
END:VEVENT
END:VCALENDAR
