BEGIN:VCALENDAR
VERSION:2.0
PRODID:-//81.169.145.152//NONSGML kigkonsult.se iCalcreator 2.20//
CALSCALE:GREGORIAN
METHOD:PUBLISH
X-WR-TIMEZONE:UTC
BEGIN:VEVENT
UID:event68@Gemeindefeuerwehr Großrückerswalde
DTSTAMP:20260421T180058Z
CATEGORIES:OF Streckewalde
DESCRIPTION:Streckewalde Technik- und Pflegedienst\nKategorie: OF Streckewa
 lde\nICS-Link: http://jf-ff-grossrueckerswalde.de/index.php?option=com_jem
 &view=event&id=68:streckewalde-technik-und-pflegedienst\n
DTSTART:20170324T190000Z
DTEND:20170324T190000Z
LOCATION:Gerätehaus Streckewalde\,Bergstraße 5a\,09518 Streckewalde
SUMMARY:Streckewalde Technik- und Pflegedienst
URL:http://jf-ff-grossrueckerswalde.de/index.php?option=com_jem&view=event&
 id=68:streckewalde-technik-und-pflegedienst
END:VEVENT
END:VCALENDAR
