BEGIN:VCALENDAR
VERSION:2.0
PRODID:-//81.169.145.152//NONSGML kigkonsult.se iCalcreator 2.20//
CALSCALE:GREGORIAN
METHOD:PUBLISH
X-WR-TIMEZONE:UTC
BEGIN:VEVENT
UID:event62@Gemeindefeuerwehr Großrückerswalde
DTSTAMP:20260421T170234Z
CATEGORIES:OF Niederschmiedeberg
DESCRIPTION:Niederschmiedeberg FwDV 3 Ortslage 3\nKategorie: OF Niederschmi
 edeberg\nICS-Link: http://jf-ff-grossrueckerswalde.de/index.php?option=com
 _jem&view=event&id=62:niederschmiedeberg-fwdv-3-ortslage-3\n
DTSTART:20170620T183000Z
DTEND:20170620T183000Z
LOCATION:Gerätehaus Niederschmiedeberg\,Talstraße 18\,09518 Niederschmiedeb
 erg
SUMMARY:Niederschmiedeberg FwDV 3 Ortslage 3
URL:http://jf-ff-grossrueckerswalde.de/index.php?option=com_jem&view=event&
 id=62:niederschmiedeberg-fwdv-3-ortslage-3
END:VEVENT
END:VCALENDAR
