BEGIN:VCALENDAR
VERSION:2.0
PRODID:-//81.169.145.152//NONSGML kigkonsult.se iCalcreator 2.20//
CALSCALE:GREGORIAN
METHOD:PUBLISH
X-WR-TIMEZONE:UTC
BEGIN:VEVENT
UID:event61@Gemeindefeuerwehr Großrückerswalde
DTSTAMP:20260423T110241Z
CATEGORIES:OF Niederschmiedeberg
DESCRIPTION:Niederschmiedeberg FwDV 3 Ortslage 2\nKategorie: OF Niederschmi
 edeberg\nICS-Link: http://jf-ff-grossrueckerswalde.de/index.php?option=com
 _jem&view=event&id=61:niederschmiedeberg-fwdv-3-ortslage-2\n
DTSTART:20170613T183000Z
DTEND:20170613T183000Z
LOCATION:Gerätehaus Niederschmiedeberg\,Talstraße 18\,09518 Niederschmiedeb
 erg
SUMMARY:Niederschmiedeberg FwDV 3 Ortslage 2
URL:http://jf-ff-grossrueckerswalde.de/index.php?option=com_jem&view=event&
 id=61:niederschmiedeberg-fwdv-3-ortslage-2
END:VEVENT
END:VCALENDAR
