BEGIN:VCALENDAR
VERSION:2.0
PRODID:-//81.169.145.152//NONSGML kigkonsult.se iCalcreator 2.20//
CALSCALE:GREGORIAN
METHOD:PUBLISH
X-WR-TIMEZONE:UTC
BEGIN:VEVENT
UID:event5@Gemeindefeuerwehr Großrückerswalde
DTSTAMP:20260421T151306Z
CATEGORIES:Gemeindefeuerwehr Großrückerswalde
DESCRIPTION:Ausbildungstag 2015\nKategorie: Gemeindefeuerwehr Großrückerswa
 lde\nICS-Link: http://jf-ff-grossrueckerswalde.de/index.php?option=com_jem
 &view=event&id=5:ausbildungstag\n
DTSTART:20150919T080000Z
DTEND:20150919T080000Z
LOCATION:Großrückerswalde\,09518
SUMMARY:Ausbildungstag 2015
URL:http://jf-ff-grossrueckerswalde.de/index.php?option=com_jem&view=event&
 id=5:ausbildungstag
END:VEVENT
END:VCALENDAR
