BEGIN:VCALENDAR
VERSION:2.0
PRODID:-//81.169.145.152//NONSGML kigkonsult.se iCalcreator 2.20//
CALSCALE:GREGORIAN
METHOD:PUBLISH
X-WR-TIMEZONE:UTC
BEGIN:VEVENT
UID:event49@Gemeindefeuerwehr Großrückerswalde
DTSTAMP:20260423T101929Z
CATEGORIES:OF Niederschmiedeberg
DESCRIPTION:Niederschmiedeberg Gefahren an der Einsatzstelle\nKategorie: OF
  Niederschmiedeberg\nICS-Link: http://jf-ff-grossrueckerswalde.de/index.ph
 p?option=com_jem&view=event&id=49:niederschmiedeberg-gefahren-an-der-einsa
 tzstelle\n
DTSTART:20170221T183000Z
DTEND:20170221T183000Z
LOCATION:Gerätehaus Niederschmiedeberg\,Talstraße 18\,09518 Niederschmiedeb
 erg
SUMMARY:Niederschmiedeberg Gefahren an der Einsatzstelle
URL:http://jf-ff-grossrueckerswalde.de/index.php?option=com_jem&view=event&
 id=49:niederschmiedeberg-gefahren-an-der-einsatzstelle
END:VEVENT
END:VCALENDAR
