BEGIN:VCALENDAR
VERSION:2.0
PRODID:-//81.169.145.152//NONSGML kigkonsult.se iCalcreator 2.20//
CALSCALE:GREGORIAN
METHOD:PUBLISH
X-WR-TIMEZONE:UTC
BEGIN:VEVENT
UID:event42@Gemeindefeuerwehr Großrückerswalde
DTSTAMP:20260421T180640Z
CATEGORIES:OF Großrückerswalde
DESCRIPTION:Großrückerswalde Grundtätigkeiten FwDV 3\nKategorie: OF Großrüc
 kerswalde\nICS-Link: http://jf-ff-grossrueckerswalde.de/index.php?option=c
 om_jem&view=event&id=42:grossrueckerswalde-grundtaetigkeiten-fwdv-3\n
DTSTART:20170502T190000Z
DTEND:20170502T190000Z
LOCATION:Gerätehaus Großrückerswalde\,Marienberger Str. 72\,09518 Grossrück
 erswalde
SUMMARY:Großrückerswalde Grundtätigkeiten FwDV 3
URL:http://jf-ff-grossrueckerswalde.de/index.php?option=com_jem&view=event&
 id=42:grossrueckerswalde-grundtaetigkeiten-fwdv-3
END:VEVENT
END:VCALENDAR
