BEGIN:VCALENDAR
VERSION:2.0
PRODID:-//81.169.145.152//NONSGML kigkonsult.se iCalcreator 2.20//
CALSCALE:GREGORIAN
METHOD:PUBLISH
X-WR-TIMEZONE:UTC
BEGIN:VEVENT
UID:event34@Gemeindefeuerwehr Großrückerswalde
DTSTAMP:20260423T093000Z
CATEGORIES:Gemeindefeuerwehr Großrückerswalde
DESCRIPTION:Gemeindefeuerwehr-ausbildungstag\nKategorie: Gemeindefeuerwehr 
 Großrückerswalde\nICS-Link: http://jf-ff-grossrueckerswalde.de/index.php?o
 ption=com_jem&view=event&id=34:gemeindefeuerwehrausbildungstag\n
DTSTART:20170422T080000Z
DTEND:20170422T080000Z
LOCATION:Mildenau\,09456
SUMMARY:Gemeindefeuerwehr-ausbildungstag
URL:http://jf-ff-grossrueckerswalde.de/index.php?option=com_jem&view=event&
 id=34:gemeindefeuerwehrausbildungstag
END:VEVENT
END:VCALENDAR
