BEGIN:VCALENDAR
VERSION:2.0
PRODID:-//81.169.145.152//NONSGML kigkonsult.se iCalcreator 2.20//
CALSCALE:GREGORIAN
METHOD:PUBLISH
X-WR-TIMEZONE:UTC
BEGIN:VEVENT
UID:event32@Gemeindefeuerwehr Großrückerswalde
DTSTAMP:20260423T113609Z
CATEGORIES:Gemeindefeuerwehr Großrückerswalde
DESCRIPTION:Gemeindefeuerwehrball\nKategorie: Gemeindefeuerwehr Großrückers
 walde\nICS-Link: http://jf-ff-grossrueckerswalde.de/index.php?option=com_j
 em&view=event&id=32:gemeindefeuerwehrball\n
DTSTART:20170128T183000Z
DTEND:20170128T183000Z
LOCATION:Streckewalde Turnhalle\,Bergstraße 51A\,09518 Streckewalde
SUMMARY:Gemeindefeuerwehrball
URL:http://jf-ff-grossrueckerswalde.de/index.php?option=com_jem&view=event&
 id=32:gemeindefeuerwehrball
END:VEVENT
END:VCALENDAR
