BEGIN:VCALENDAR
VERSION:2.0
PRODID:-//81.169.145.152//NONSGML kigkonsult.se iCalcreator 2.20//
CALSCALE:GREGORIAN
METHOD:PUBLISH
X-WR-TIMEZONE:UTC
BEGIN:VEVENT
UID:event29@Gemeindefeuerwehr Großrückerswalde
DTSTAMP:20260421T181402Z
CATEGORIES:Gemeindefeuerwehr
DESCRIPTION:Gemeindefeuerwehr Digitalfunk\nKategorie: Gemeindefeuerwehr\nIC
 S-Link: http://jf-ff-grossrueckerswalde.de/index.php?option=com_jem&view=e
 vent&id=29:gemeindefeuerwehr-digitalfunk\n
DTSTART:20170207T193000Z
DTEND:20170207T193000Z
LOCATION:Oberschule Großrückerswalde\,Wolkensteiner Straße 3\,09518 Großrüc
 kerswalde
SUMMARY:Gemeindefeuerwehr Digitalfunk
URL:http://jf-ff-grossrueckerswalde.de/index.php?option=com_jem&view=event&
 id=29:gemeindefeuerwehr-digitalfunk
END:VEVENT
END:VCALENDAR
