BEGIN:VCALENDAR
VERSION:2.0
PRODID:-//81.169.145.152//NONSGML kigkonsult.se iCalcreator 2.20//
CALSCALE:GREGORIAN
METHOD:PUBLISH
X-WR-TIMEZONE:UTC
BEGIN:VEVENT
UID:event27@Gemeindefeuerwehr Großrückerswalde
DTSTAMP:20260423T104056Z
CATEGORIES:OF Großrückerswalde
DESCRIPTION:Großrückerswalde Atemschutz / Neue Geräte\nKategorie: OF Großrü
 ckerswalde\nICS-Link: http://jf-ff-grossrueckerswalde.de/index.php?option=
 com_jem&view=event&id=27:atemschutz-neue-geraete\n
DTSTART:20170110T193000Z
DTEND:20170110T193000Z
LOCATION:Gerätehaus Großrückerswalde\,Marienberger Str. 72\,09518 Grossrück
 erswalde
SUMMARY:Großrückerswalde Atemschutz / Neue Geräte
URL:http://jf-ff-grossrueckerswalde.de/index.php?option=com_jem&view=event&
 id=27:atemschutz-neue-geraete
END:VEVENT
END:VCALENDAR
