BEGIN:VCALENDAR
VERSION:2.0
PRODID:-//81.169.145.152//NONSGML kigkonsult.se iCalcreator 2.20//
CALSCALE:GREGORIAN
METHOD:PUBLISH
X-WR-TIMEZONE:UTC
BEGIN:VEVENT
UID:event25@Gemeindefeuerwehr Großrückerswalde
DTSTAMP:20260421T182442Z
CATEGORIES:Ortsfeuerwehr Großrückerswalde
DESCRIPTION:Jahreshauptversammlung FF Großrückerswalde\nKategorie: Ortsfeue
 rwehr Großrückerswalde\nICS-Link: http://jf-ff-grossrueckerswalde.de/index
 .php?option=com_jem&view=event&id=25:jahreshauptversammlung-ff-grossruecke
 rswalde\n
DTSTART:20170114T180000Z
DTEND:20170114T180000Z
LOCATION:Landgasthof Wemmer\,Marienberger Str. 171\,09518 Grossrückerswalde
SUMMARY:Jahreshauptversammlung FF Großrückerswalde
URL:http://jf-ff-grossrueckerswalde.de/index.php?option=com_jem&view=event&
 id=25:jahreshauptversammlung-ff-grossrueckerswalde
END:VEVENT
END:VCALENDAR
