BEGIN:VCALENDAR
VERSION:2.0
PRODID:-//81.169.145.152//NONSGML kigkonsult.se iCalcreator 2.20//
CALSCALE:GREGORIAN
METHOD:PUBLISH
X-WR-TIMEZONE:UTC
BEGIN:VEVENT
UID:event24@Gemeindefeuerwehr Großrückerswalde
DTSTAMP:20260421T180247Z
CATEGORIES:Dienste
DESCRIPTION:Motorkettensägen und Beleuchtungsmittel\nKategorie: Dienste\nIC
 S-Link: http://jf-ff-grossrueckerswalde.de/index.php?option=com_jem&view=e
 vent&id=24:motorkettensaegen-und-beleuchtungsmittel\n
DTSTART:20161011T190000Z
DTEND:20161011T190000Z
LOCATION:Gerätehaus Großrückerswalde\,Marienberger Str. 72\,09518 Grossrück
 erswalde
SUMMARY:Motorkettensägen und Beleuchtungsmittel
URL:http://jf-ff-grossrueckerswalde.de/index.php?option=com_jem&view=event&
 id=24:motorkettensaegen-und-beleuchtungsmittel
END:VEVENT
END:VCALENDAR
