BEGIN:VCALENDAR
VERSION:2.0
PRODID:-//81.169.145.152//NONSGML kigkonsult.se iCalcreator 2.20//
CALSCALE:GREGORIAN
METHOD:PUBLISH
X-WR-TIMEZONE:UTC
BEGIN:VEVENT
UID:event20@Gemeindefeuerwehr Großrückerswalde
DTSTAMP:20260421T164548Z
CATEGORIES:Gemeindefeuerwehr Großrückerswalde
DESCRIPTION:8. Gassenlauf Großrückerswalde\nKategorie: Gemeindefeuerwehr Gr
 oßrückerswalde\nICS-Link: http://jf-ff-grossrueckerswalde.de/index.php?opt
 ion=com_jem&view=event&id=20:8-gassenlauf-grossrueckerswalde\n
DTSTART:20170908T170000Z
DTEND:20170908T170000Z
LOCATION:Großrückerswalde\,09518
SUMMARY:8. Gassenlauf Großrückerswalde
URL:http://jf-ff-grossrueckerswalde.de/index.php?option=com_jem&view=event&
 id=20:8-gassenlauf-grossrueckerswalde
END:VEVENT
END:VCALENDAR
