BEGIN:VCALENDAR
VERSION:2.0
PRODID:-//81.169.145.152//NONSGML kigkonsult.se iCalcreator 2.20//
CALSCALE:GREGORIAN
METHOD:PUBLISH
X-WR-TIMEZONE:UTC
BEGIN:VEVENT
UID:event2@Gemeindefeuerwehr Großrückerswalde
DTSTAMP:20260421T180220Z
CATEGORIES:Ortsfeuerwehr Streckewalde
DESCRIPTION:125 Jahre Feuerwehr Streckewalde\nKategorie: Ortsfeuerwehr Stre
 ckewalde\nICS-Link: http://jf-ff-grossrueckerswalde.de/index.php?option=co
 m_jem&view=event&id=2:125-jahre-feuerwehr-streckewalde\n
DTSTART;VALUE=DATE:20150807
DTEND;VALUE=DATE:20150810
SUMMARY:125 Jahre Feuerwehr Streckewalde
URL:http://jf-ff-grossrueckerswalde.de/index.php?option=com_jem&view=event&
 id=2:125-jahre-feuerwehr-streckewalde
END:VEVENT
END:VCALENDAR
