BEGIN:VCALENDAR
VERSION:2.0
PRODID:-//81.169.145.152//NONSGML kigkonsult.se iCalcreator 2.20//
CALSCALE:GREGORIAN
METHOD:PUBLISH
X-WR-TIMEZONE:UTC
BEGIN:VEVENT
UID:event19@Gemeindefeuerwehr Großrückerswalde
DTSTAMP:20260421T152053Z
CATEGORIES:Ortsfeuerwehr Großrückerswalde
DESCRIPTION:Feuerwehrausfahrt FF Großrückerswalde\nKategorie: Ortsfeuerwehr
  Großrückerswalde\nICS-Link: http://jf-ff-grossrueckerswalde.de/index.php?
 option=com_jem&view=event&id=19:feuerwehrausfahrt-ff-grossrueckerswalde\n
DTSTART;VALUE=DATE:20171014
DTEND;VALUE=DATE:20171016
LOCATION:Großrückerswalde\,09518
SUMMARY:Feuerwehrausfahrt FF Großrückerswalde
URL:http://jf-ff-grossrueckerswalde.de/index.php?option=com_jem&view=event&
 id=19:feuerwehrausfahrt-ff-grossrueckerswalde
END:VEVENT
END:VCALENDAR
