BEGIN:VCALENDAR
VERSION:2.0
PRODID:-//81.169.145.152//NONSGML kigkonsult.se iCalcreator 2.20//
CALSCALE:GREGORIAN
METHOD:PUBLISH
X-WR-TIMEZONE:UTC
BEGIN:VEVENT
UID:event148@Gemeindefeuerwehr Großrückerswalde
DTSTAMP:20260421T134608Z
CATEGORIES:Gemeindefeuerwehr Großrückerswalde
DESCRIPTION:Gemeindefeuerwehr-ausbildungstag 2026\nKategorie: Gemeindefeuer
 wehr Großrückerswalde\nICS-Link: http://jf-ff-grossrueckerswalde.de/index.
 php?option=com_jem&view=event&id=148:gemeindefeuerwehrausbildungstag-2026
 \n
DTSTART;VALUE=DATE:20260418
DTEND;VALUE=DATE:20260419
LOCATION:Mildenau\,09456
SUMMARY:Gemeindefeuerwehr-ausbildungstag 2026
URL:http://jf-ff-grossrueckerswalde.de/index.php?option=com_jem&view=event&
 id=148:gemeindefeuerwehrausbildungstag-2026
END:VEVENT
END:VCALENDAR
