BEGIN:VCALENDAR
VERSION:2.0
PRODID:-//81.169.145.152//NONSGML kigkonsult.se iCalcreator 2.20//
CALSCALE:GREGORIAN
METHOD:PUBLISH
X-WR-TIMEZONE:UTC
BEGIN:VEVENT
UID:event143@Gemeindefeuerwehr Großrückerswalde
DTSTAMP:20260421T134817Z
CATEGORIES:Ortsfeuerwehr Großrückerswalde
DESCRIPTION:Tag der offenen Tür\nKategorie: Ortsfeuerwehr Großrückerswalde
 \nICS-Link: http://jf-ff-grossrueckerswalde.de/index.php?option=com_jem&vi
 ew=event&id=143:tag-der-offenen-tuer\n
DTSTART:20230701T170000Z
DTEND:20230702T170000Z
LOCATION:Gerätehaus Großrückerswalde\,Marienberger Str. 72\,09518 Grossrück
 erswalde
SUMMARY:Tag der offenen Tür
URL:http://jf-ff-grossrueckerswalde.de/index.php?option=com_jem&view=event&
 id=143:tag-der-offenen-tuer
END:VEVENT
END:VCALENDAR
