BEGIN:VCALENDAR
VERSION:2.0
PRODID:-//81.169.145.152//NONSGML kigkonsult.se iCalcreator 2.20//
CALSCALE:GREGORIAN
METHOD:PUBLISH
X-WR-TIMEZONE:UTC
BEGIN:VEVENT
UID:event14@Gemeindefeuerwehr Großrückerswalde
DTSTAMP:20260423T105739Z
CATEGORIES:Gemeindefeuerwehr Großrückerswalde
DESCRIPTION:Gemeindefeuerwehr-ausbildungstag\nKategorie: Gemeindefeuerwehr 
 Großrückerswalde\nICS-Link: http://jf-ff-grossrueckerswalde.de/index.php?o
 ption=com_jem&view=event&id=14:gemeindefeuerwehrausbildungstag\n
DTSTART:20180421T080000Z
DTEND:20180421T080000Z
SUMMARY:Gemeindefeuerwehr-ausbildungstag
URL:http://jf-ff-grossrueckerswalde.de/index.php?option=com_jem&view=event&
 id=14:gemeindefeuerwehrausbildungstag
END:VEVENT
END:VCALENDAR
