BEGIN:VCALENDAR
VERSION:2.0
PRODID:-//81.169.145.152//NONSGML kigkonsult.se iCalcreator 2.20//
CALSCALE:GREGORIAN
METHOD:PUBLISH
X-WR-TIMEZONE:UTC
BEGIN:VEVENT
UID:event134@Gemeindefeuerwehr Großrückerswalde
DTSTAMP:20260421T152051Z
CATEGORIES:Ortsfeuerwehr Großrückerswalde
DESCRIPTION:Kameradschaftsabend Großrückerswalde\nKategorie: Ortsfeuerwehr 
 Großrückerswalde\nICS-Link: http://jf-ff-grossrueckerswalde.de/index.php?o
 ption=com_jem&view=event&id=134:kameradschaftsabend-grossrueckerswalde\n
DTSTART:20210925T190000Z
DTEND:20210925T190000Z
LOCATION:Gerätehaus Großrückerswalde\,Marienberger Str. 72\,09518 Grossrück
 erswalde
SUMMARY:Kameradschaftsabend Großrückerswalde
URL:http://jf-ff-grossrueckerswalde.de/index.php?option=com_jem&view=event&
 id=134:kameradschaftsabend-grossrueckerswalde
END:VEVENT
END:VCALENDAR
