BEGIN:VCALENDAR
VERSION:2.0
PRODID:-//81.169.145.152//NONSGML kigkonsult.se iCalcreator 2.20//
CALSCALE:GREGORIAN
METHOD:PUBLISH
X-WR-TIMEZONE:UTC
BEGIN:VEVENT
UID:event126@Gemeindefeuerwehr Großrückerswalde
DTSTAMP:20260423T104441Z
CATEGORIES:OF Niederschmiedeberg
DESCRIPTION:Niederschmiedeberg Ausbildung Digitalfunk\nKategorie: OF Nieder
 schmiedeberg\nICS-Link: http://jf-ff-grossrueckerswalde.de/index.php?optio
 n=com_jem&view=event&id=126:niederschmiedeberg-ausbildung-digitalfunk\n
DTSTART;VALUE=DATE:20180320
DTEND;VALUE=DATE:20180321
LOCATION:Gerätehaus Niederschmiedeberg\,Talstraße 18\,09518 Niederschmiedeb
 erg
SUMMARY:Niederschmiedeberg Ausbildung Digitalfunk
URL:http://jf-ff-grossrueckerswalde.de/index.php?option=com_jem&view=event&
 id=126:niederschmiedeberg-ausbildung-digitalfunk
END:VEVENT
END:VCALENDAR
