BEGIN:VCALENDAR
VERSION:2.0
PRODID:-//81.169.145.152//NONSGML kigkonsult.se iCalcreator 2.20//
CALSCALE:GREGORIAN
METHOD:PUBLISH
X-WR-TIMEZONE:UTC
BEGIN:VEVENT
UID:event123@Gemeindefeuerwehr Großrückerswalde
DTSTAMP:20260421T150759Z
CATEGORIES:OF Mauersberg
DESCRIPTION:Mauersberg Einheiten im TH Einsatz\nKategorie: OF Mauersberg\nI
 CS-Link: http://jf-ff-grossrueckerswalde.de/index.php?option=com_jem&view=
 event&id=123:mauersberg-einheiten-im-th-einsatz\n
DTSTART;VALUE=DATE:20180410
DTEND;VALUE=DATE:20180411
LOCATION:Gerätehaus Mauersberg\,Hauptstraße 4\,09518 Mauersberg
SUMMARY:Mauersberg Einheiten im TH Einsatz
URL:http://jf-ff-grossrueckerswalde.de/index.php?option=com_jem&view=event&
 id=123:mauersberg-einheiten-im-th-einsatz
END:VEVENT
END:VCALENDAR
