BEGIN:VCALENDAR
VERSION:2.0
PRODID:-//81.169.145.152//NONSGML kigkonsult.se iCalcreator 2.20//
CALSCALE:GREGORIAN
METHOD:PUBLISH
X-WR-TIMEZONE:UTC
BEGIN:VEVENT
UID:event116@Gemeindefeuerwehr Großrückerswalde
DTSTAMP:20260423T104422Z
CATEGORIES:Gemeindefeuerwehr Großrückerswalde
DESCRIPTION:Führungskräfteworkshop\nKategorie: Gemeindefeuerwehr Großrücker
 swalde\nICS-Link: http://jf-ff-grossrueckerswalde.de/index.php?option=com_
 jem&view=event&id=116:fuehrungskraefteworkshop\n
DTSTART;VALUE=DATE:20180615
DTEND;VALUE=DATE:20180617
LOCATION:Gerätehaus Großrückerswalde\,Marienberger Str. 72\,09518 Grossrück
 erswalde
SUMMARY:Führungskräfteworkshop
URL:http://jf-ff-grossrueckerswalde.de/index.php?option=com_jem&view=event&
 id=116:fuehrungskraefteworkshop
END:VEVENT
END:VCALENDAR
