BEGIN:VCALENDAR
VERSION:2.0
PRODID:-//81.169.145.152//NONSGML kigkonsult.se iCalcreator 2.20//
CALSCALE:GREGORIAN
METHOD:PUBLISH
X-WR-TIMEZONE:UTC
BEGIN:VEVENT
UID:event113@Gemeindefeuerwehr Großrückerswalde
DTSTAMP:20260421T180214Z
CATEGORIES:Ortsfeuerwehr Streckewalde
DESCRIPTION:Tag der offenen Tür FF Streckewalde\nKategorie: Ortsfeuerwehr S
 treckewalde\nICS-Link: http://jf-ff-grossrueckerswalde.de/index.php?option
 =com_jem&view=event&id=113:tag-der-offenen-tuer-ff-streckewalde\n
DTSTART:20170909T140000Z
DTEND:20170909T140000Z
LOCATION:Gerätehaus Streckewalde\,Bergstraße 5a\,09518 Streckewalde
SUMMARY:Tag der offenen Tür FF Streckewalde
URL:http://jf-ff-grossrueckerswalde.de/index.php?option=com_jem&view=event&
 id=113:tag-der-offenen-tuer-ff-streckewalde
END:VEVENT
END:VCALENDAR
