BEGIN:VCALENDAR
VERSION:2.0
PRODID:-//81.169.145.152//NONSGML kigkonsult.se iCalcreator 2.20//
CALSCALE:GREGORIAN
METHOD:PUBLISH
X-WR-TIMEZONE:UTC
BEGIN:VEVENT
UID:event149@Gemeindefeuerwehr Großrückerswalde
DTSTAMP:20260421T134255Z
CATEGORIES:Ortsfeuerwehr Mauersberg
DESCRIPTION:Tag der offenen Tür FF Mauersberg\nKategorie: Ortsfeuerwehr Mau
 ersberg\nICS-Link: http://jf-ff-grossrueckerswalde.de/index.php?option=com
 _jem&view=event&id=149:tag-der-offenen-tuer-ff-mauersberg\n
DTSTART;VALUE=DATE:20260619
DTEND;VALUE=DATE:20260622
SUMMARY:Tag der offenen Tür FF Mauersberg
URL:http://jf-ff-grossrueckerswalde.de/index.php?option=com_jem&view=event&
 id=149:tag-der-offenen-tuer-ff-mauersberg
END:VEVENT
END:VCALENDAR
