BEGIN:VCALENDAR
VERSION:2.0
PRODID:-//81.169.145.152//NONSGML kigkonsult.se iCalcreator 2.20//
CALSCALE:GREGORIAN
METHOD:PUBLISH
X-WR-TIMEZONE:UTC
BEGIN:VEVENT
UID:event145@Gemeindefeuerwehr Großrückerswalde
DTSTAMP:20260421T134256Z
CATEGORIES:Ortsfeuerwehr Großrückerswalde
DESCRIPTION:Tag der offenen Tür FF Großrückerswalde\nKategorie: Ortsfeuerwe
 hr Großrückerswalde\nICS-Link: http://jf-ff-grossrueckerswalde.de/index.ph
 p?option=com_jem&view=event&id=145:tag-der-offenen-tuer-ff-grossrueckerswa
 lde\n
DTSTART;VALUE=DATE:20260530
DTEND;VALUE=DATE:20260601
LOCATION:Gerätehaus Großrückerswalde\,Marienberger Str. 72\,09518 Grossrück
 erswalde\,Germany
SUMMARY:Tag der offenen Tür FF Großrückerswalde
URL:http://jf-ff-grossrueckerswalde.de/index.php?option=com_jem&view=event&
 id=145:tag-der-offenen-tuer-ff-grossrueckerswalde
END:VEVENT
END:VCALENDAR
